1.8069672533
0.0000000000
0.0000000000
-1.8069672533
522858.5844934729
8420977.6841874123
