1.7684400697
0.0000000000
0.0000000000
-1.7684400697
666594.5378666278
8432094.6018458959
