2.2441299683
0.0000000000
0.0000000000
-2.2441299683
665729.6118049846
8431000.0672620628
