0.15000000000000
0.00000000000000
0.00000000000000
-0.15000000000000
712500.07499999995000
4958249.92499999980000
