0.4145898076
0.0000000000
0.0000000000
-0.4145898076
312171.2147402415
2218647.9723768500
