1.3603484704
0.0000000000
0.0000000000
-1.3603484704
357853.6093847891
1677942.9151588406
