1.4059498320
0.0000000000
0.0000000000
-1.4059498320
366037.4682202348
1684873.6704228374
