1.3495860367
0.0000000000
0.0000000000
-1.3495860367
349464.7760709047
1666465.9992488304
