1.3121177835
0.0000000000
0.0000000000
-1.3121177835
353296.8024466851
1669945.8910086048
