1.3765148982
0.0000000000
0.0000000000
-1.3765148982
344324.9915626117
1662655.4284349983
