1.000000
0.000000
-0.000000
-1.000000
746900.500000
559099.500000
