1.000000
0.000000
-0.000000
-1.000000
828100.500000
597599.500000
