1.000000
0.000000
-0.000000
-1.000000
845500.500000
620699.500000
