1.000000
0.000000
-0.000000
-1.000000
920900.500000
643799.500000
