1.000000
0.000000
-0.000000
-1.000000
949900.500000
659199.500000
