1.000000
0.000000
-0.000000
-1.000000
1007900.500000
674599.500000
