1.000000
0.000000
-0.000000
-1.000000
1019500.500000
790099.500000
