1.000000
0.000000
-0.000000
-1.000000
1077500.500000
736199.500000
