1.000000
0.000000
-0.000000
-1.000000
1106500.500000
682299.500000
