1.000000
0.000000
-0.000000
-1.000000
1112300.500000
705399.500000
