1.000000
0.000000
-0.000000
-1.000000
1181900.500000
759299.500000
