1.000000
0.000000
-0.000000
-1.000000
1187700.500000
720799.500000
