0.6387976262
0.0000000000
0.0000000000
-0.6387976262
264226.5154974755
1490361.5143982030
