0.5287114664
0.0000000000
0.0000000000
-0.5287114664
257580.6925486130
1473941.6216561976
