1.1289375127
0.0000000000
0.0000000000
-1.1289375127
261975.9022773012
1502042.5498258143
