1.1995539935
0.0000000000
0.0000000000
-1.1995539935
266434.9741786105
1515015.7959742637
