0.5829602166
0.0000000000
0.0000000000
-0.5829602166
252512.0602264888
1492410.8224419870
