0.6274786449
0.0000000000
0.0000000000
-0.6274786449
260203.1009982784
1497042.3343427537
