1.4240580807
0.0000000000
0.0000000000
-1.4240580807
244202.9595497854
1493418.8124540125
