1.4242219794
0.0000000000
0.0000000000
-1.4242219794
258677.5089844715
1491896.3234088128
