1.3512280317
0.0000000000
0.0000000000
-1.3512280317
267764.3042214976
1504733.3504232797
