1.3518058036
0.0000000000
0.0000000000
-1.3518058036
258619.5396484441
1496467.6559430340
