1.3439272779
0.0000000000
0.0000000000
-1.3439272779
246461.7347682591
1488387.4831845686
