1.4335451922
0.0000000000
0.0000000000
-1.4335451922
257855.4652308339
1501965.0347910207
