1.4189211102
0.0000000000
0.0000000000
-1.4189211102
257823.7165977169
1504233.8474971892
