1.4271285326
0.0000000000
0.0000000000
-1.4271285326
274052.9582658053
1506622.8555735624
