1.4779042392
0.0000000000
0.0000000000
-1.4779042392
275279.7009494243
1505750.0498037480
