0.9974118285
0.0000000000
0.0000000000
-0.9974118285
212091.7714231703
2222716.6427164730
