1.2631738202
0.0000000000
0.0000000000
-1.2631738202
212840.0512346199
2104519.8352015559
