1.5999906073
0.0000000000
0.0000000000
-1.5999906073
221507.9747273873
2195084.2254832448
