0.9505150246
0.0000000000
0.0000000000
-0.9505150246
224611.7198530998
2162773.8287851159
