1.0857790942
0.0000000000
0.0000000000
-1.0857790942
224650.3622654096
2118909.2832485833
