0.9845771493
0.0000000000
0.0000000000
-0.9845771493
230465.1578588034
2159139.4967933157
