1.0789664818
0.0000000000
0.0000000000
-1.0789664818
230450.9868025779
2154268.6654578168
