0.5388464146
0.0000000000
0.0000000000
-0.5388464146
231880.1508017810
2148221.8279567333
