0.8303101976
0.0000000000
0.0000000000
-0.8303101976
230353.9703143415
2139192.6757698497
