1.1563371905
0.0000000000
0.0000000000
-1.1563371905
228400.6666997299
2122983.5332426853
