0.9039706871
0.0000000000
0.0000000000
-0.9039706871
233319.4130996444
2145042.2055179169
