1.4705276951
0.0000000000
0.0000000000
-1.4705276951
237011.4769594682
2180070.2840058208
