1.0479613258
0.0000000000
0.0000000000
-1.0479613258
237956.2292613146
2149165.3980504572
